Package: seqArchR Version: 1.10.0 Command: /Library/Frameworks/R.framework/Resources/bin/R CMD build --keep-empty-dirs --no-resave-data seqArchR StartedAt: 2025-02-03 22:16:09 -0500 (Mon, 03 Feb 2025) EndedAt: 2025-02-03 22:17:32 -0500 (Mon, 03 Feb 2025) EllapsedTime: 82.5 seconds RetCode: 0 Status: OK PackageFile: seqArchR_1.10.0.tar.gz PackageFileSize: 4.77 MiB