Package: seq2pathway Version: 1.38.0 Command: F:\biocbuild\bbs-3.20-bioc\R\bin\R.exe CMD INSTALL seq2pathway StartedAt: 2025-03-31 16:33:34 -0400 (Mon, 31 Mar 2025) EndedAt: 2025-03-31 16:34:07 -0400 (Mon, 31 Mar 2025) EllapsedTime: 33.3 seconds RetCode: 0 Status: OK