Package: seq2pathway Version: 1.38.0 Command: /Library/Frameworks/R.framework/Resources/bin/R CMD build --keep-empty-dirs --no-resave-data seq2pathway StartedAt: 2025-03-31 21:58:29 -0400 (Mon, 31 Mar 2025) EndedAt: 2025-03-31 22:00:52 -0400 (Mon, 31 Mar 2025) EllapsedTime: 143.4 seconds RetCode: 0 Status: OK PackageFile: seq2pathway_1.38.0.tar.gz PackageFileSize: 1.417 MiB