Package: seq2pathway Version: 1.38.0 Command: /Library/Frameworks/R.framework/Resources/bin/R CMD INSTALL seq2pathway StartedAt: 2025-03-31 17:09:55 -0400 (Mon, 31 Mar 2025) EndedAt: 2025-03-31 17:10:20 -0400 (Mon, 31 Mar 2025) EllapsedTime: 25.8 seconds RetCode: 0 Status: OK