Package: seq.hotSPOT Version: 1.6.0 Command: /home/biocbuild/R/R/bin/R CMD check --install=check:seq.hotSPOT.install-out.txt --library=/home/biocbuild/R/R/site-library --no-vignettes --timings seq.hotSPOT_1.6.0.tar.gz StartedAt: 2025-02-11 10:20:56 -0000 (Tue, 11 Feb 2025) EndedAt: 2025-02-11 10:21:26 -0000 (Tue, 11 Feb 2025) EllapsedTime: 30.1 seconds RetCode: 0 Status: OK CheckDir: seq.hotSPOT.Rcheck Warnings: 0