Package: selectKSigs Version: 1.18.0 Command: /home/biocbuild/R/R/bin/R CMD build --keep-empty-dirs --no-resave-data selectKSigs StartedAt: 2025-04-01 02:37:46 -0000 (Tue, 01 Apr 2025) EndedAt: 2025-04-01 02:37:47 -0000 (Tue, 01 Apr 2025) EllapsedTime: 1.0 seconds RetCode: 1 Status: ERROR PackageFile: None PackageFileSize: NA