Package: selectKSigs Version: 1.18.0 Command: F:\biocbuild\bbs-3.20-bioc\R\bin\R.exe CMD INSTALL selectKSigs StartedAt: 2025-02-03 17:02:38 -0500 (Mon, 03 Feb 2025) EndedAt: 2025-02-03 17:04:24 -0500 (Mon, 03 Feb 2025) EllapsedTime: 105.2 seconds RetCode: 0 Status: OK