Package: selectKSigs Version: 1.18.0 Command: rm -rf selectKSigs.buildbin-libdir && mkdir selectKSigs.buildbin-libdir && F:\biocbuild\bbs-3.20-bioc\R\bin\R.exe CMD INSTALL --build --library=selectKSigs.buildbin-libdir selectKSigs_1.18.0.tar.gz StartedAt: 2025-02-04 09:29:26 -0500 (Tue, 04 Feb 2025) EndedAt: 2025-02-04 09:30:14 -0500 (Tue, 04 Feb 2025) EllapsedTime: 47.9 seconds RetCode: 0 Status: OK PackageFile: selectKSigs_1.18.0.zip PackageFileSize: 726.6 KiB