Package: selectKSigs Version: 1.18.0 Command: /Library/Frameworks/R.framework/Resources/bin/R CMD build --keep-empty-dirs --no-resave-data selectKSigs StartedAt: 2025-01-27 22:31:44 -0500 (Mon, 27 Jan 2025) EndedAt: 2025-01-27 22:35:26 -0500 (Mon, 27 Jan 2025) EllapsedTime: 222.4 seconds RetCode: 0 Status: OK PackageFile: selectKSigs_1.18.0.tar.gz PackageFileSize: 399.6 KiB