Package: selectKSigs Version: 1.18.0 Command: /Library/Frameworks/R.framework/Resources/bin/R CMD INSTALL selectKSigs StartedAt: 2025-01-27 16:31:46 -0500 (Mon, 27 Jan 2025) EndedAt: 2025-01-27 16:31:59 -0500 (Mon, 27 Jan 2025) EllapsedTime: 13.8 seconds RetCode: 0 Status: OK