Package: selectKSigs Version: 1.18.0 Command: /Library/Frameworks/R.framework/Resources/bin/R CMD build --keep-empty-dirs --no-resave-data selectKSigs StartedAt: 2025-02-04 08:01:16 -0500 (Tue, 04 Feb 2025) EndedAt: 2025-02-04 08:03:07 -0500 (Tue, 04 Feb 2025) EllapsedTime: 110.9 seconds RetCode: 0 Status: OK PackageFile: selectKSigs_1.18.0.tar.gz PackageFileSize: 406.7 KiB