Package: selectKSigs Version: 1.18.0 Command: rm -rf selectKSigs.buildbin-libdir && mkdir selectKSigs.buildbin-libdir && /Users/biocbuild/BBS/utils/build-universal.sh selectKSigs_1.18.0.tar.gz /Library/Frameworks/R.framework/Resources/bin/R selectKSigs.buildbin-libdir StartedAt: 2025-01-29 16:34:29 -0500 (Wed, 29 Jan 2025) EndedAt: 2025-01-29 16:34:46 -0500 (Wed, 29 Jan 2025) EllapsedTime: 16.1 seconds RetCode: 0 Status: OK PackageFile: selectKSigs_1.18.0.tgz PackageFileSize: 489.2 KiB