Package: segmenter Version: 1.12.0 Command: /home/biocbuild/R/R/bin/R CMD INSTALL segmenter StartedAt: 2025-03-31 20:54:58 -0000 (Mon, 31 Mar 2025) EndedAt: 2025-03-31 20:55:53 -0000 (Mon, 31 Mar 2025) EllapsedTime: 55.2 seconds RetCode: 0 Status: OK