Package: segmenter Version: 1.12.0 Command: /home/biocbuild/R/R/bin/R CMD build --keep-empty-dirs --no-resave-data segmenter StartedAt: 2025-04-01 02:37:06 -0000 (Tue, 01 Apr 2025) EndedAt: 2025-04-01 02:48:58 -0000 (Tue, 01 Apr 2025) EllapsedTime: 711.8 seconds RetCode: 0 Status: OK PackageFile: segmenter_1.12.0.tar.gz PackageFileSize: 3.909 MiB