Package: segmenter Version: 1.12.0 Command: rm -rf segmenter.buildbin-libdir && mkdir segmenter.buildbin-libdir && F:\biocbuild\bbs-3.20-bioc\R\bin\R.exe CMD INSTALL --build --library=segmenter.buildbin-libdir segmenter_1.12.0.tar.gz StartedAt: 2025-01-31 09:35:17 -0500 (Fri, 31 Jan 2025) EndedAt: 2025-01-31 09:37:24 -0500 (Fri, 31 Jan 2025) EllapsedTime: 126.6 seconds RetCode: 0 Status: OK PackageFile: segmenter_1.12.0.zip PackageFileSize: 4.264 MiB