Package: segmentSeq Version: 2.40.0 Command: /home/biocbuild/R/R/bin/R CMD build --keep-empty-dirs --no-resave-data segmentSeq StartedAt: 2025-02-04 02:54:38 -0000 (Tue, 04 Feb 2025) EndedAt: 2025-02-04 03:34:39 -0000 (Tue, 04 Feb 2025) EllapsedTime: 2400.8 seconds RetCode: None Status: TIMEOUT PackageFile: None PackageFileSize: NA