Package: segmentSeq Version: 2.40.0 Command: rm -rf segmentSeq.buildbin-libdir && mkdir segmentSeq.buildbin-libdir && /Users/biocbuild/BBS/utils/build-universal.sh segmentSeq_2.40.0.tar.gz /Library/Frameworks/R.framework/Resources/bin/R segmentSeq.buildbin-libdir StartedAt: 2025-04-02 16:18:03 -0400 (Wed, 02 Apr 2025) EndedAt: 2025-04-02 16:18:51 -0400 (Wed, 02 Apr 2025) EllapsedTime: 47.9 seconds RetCode: 0 Status: OK PackageFile: segmentSeq_2.40.0.tgz PackageFileSize: 3.543 MiB