Package: sechm Version: 1.14.0 Command: chmod a+r sechm -R && F:\biocbuild\bbs-3.20-bioc\R\bin\R.exe CMD build --keep-empty-dirs --no-resave-data sechm StartedAt: 2025-02-03 22:04:14 -0500 (Mon, 03 Feb 2025) EndedAt: 2025-02-03 22:05:54 -0500 (Mon, 03 Feb 2025) EllapsedTime: 99.5 seconds RetCode: 0 Status: OK PackageFile: sechm_1.14.0.tar.gz PackageFileSize: 568.3 KiB