Package: sechm Version: 1.14.0 Command: rm -rf sechm.buildbin-libdir && mkdir sechm.buildbin-libdir && F:\biocbuild\bbs-3.20-bioc\R\bin\R.exe CMD INSTALL --build --library=sechm.buildbin-libdir sechm_1.14.0.tar.gz StartedAt: 2025-01-28 09:07:23 -0500 (Tue, 28 Jan 2025) EndedAt: 2025-01-28 09:07:52 -0500 (Tue, 28 Jan 2025) EllapsedTime: 29.1 seconds RetCode: 0 Status: OK PackageFile: sechm_1.14.0.zip PackageFileSize: 647.2 KiB