Package: sechm Version: 1.14.0 Command: /Library/Frameworks/R.framework/Resources/bin/R CMD INSTALL sechm StartedAt: 2025-02-03 16:35:25 -0500 (Mon, 03 Feb 2025) EndedAt: 2025-02-03 16:36:15 -0500 (Mon, 03 Feb 2025) EllapsedTime: 49.8 seconds RetCode: 0 Status: OK