Package: sechm Version: 1.14.0 Command: /Library/Frameworks/R.framework/Resources/bin/R CMD build --keep-empty-dirs --no-resave-data sechm StartedAt: 2025-02-03 22:15:02 -0500 (Mon, 03 Feb 2025) EndedAt: 2025-02-03 22:16:58 -0500 (Mon, 03 Feb 2025) EllapsedTime: 115.5 seconds RetCode: 0 Status: OK PackageFile: sechm_1.14.0.tar.gz PackageFileSize: 1.051 MiB