Package: sechm Version: 1.14.0 Command: rm -rf sechm.buildbin-libdir && mkdir sechm.buildbin-libdir && /Users/biocbuild/BBS/utils/build-universal.sh sechm_1.14.0.tar.gz /Library/Frameworks/R.framework/Resources/bin/R sechm.buildbin-libdir StartedAt: 2025-01-31 13:40:34 -0500 (Fri, 31 Jan 2025) EndedAt: 2025-01-31 13:41:28 -0500 (Fri, 31 Jan 2025) EllapsedTime: 54.1 seconds RetCode: 0 Status: OK PackageFile: sechm_1.14.0.tgz PackageFileSize: 1.125 MiB