Package: sechm Version: 1.14.0 Command: /Library/Frameworks/R.framework/Resources/bin/R CMD build --keep-empty-dirs --no-resave-data sechm StartedAt: 2024-11-08 19:04:46 -0500 (Fri, 08 Nov 2024) EndedAt: 2024-11-08 19:05:13 -0500 (Fri, 08 Nov 2024) EllapsedTime: 27.3 seconds RetCode: 0 Status: OK PackageFile: sechm_1.14.0.tar.gz PackageFileSize: 1.051 MiB