Package: sechm Version: 1.14.0 Command: /Library/Frameworks/R.framework/Resources/bin/R CMD check --install=check:sechm.install-out.txt --library=/Library/Frameworks/R.framework/Resources/library --no-vignettes --timings sechm_1.14.0.tar.gz StartedAt: 2025-01-29 08:44:58 -0500 (Wed, 29 Jan 2025) EndedAt: 2025-01-29 08:47:57 -0500 (Wed, 29 Jan 2025) EllapsedTime: 178.8 seconds RetCode: 0 Status: OK CheckDir: sechm.Rcheck Warnings: 0