Package: sechm Version: 1.14.0 Command: /Library/Frameworks/R.framework/Resources/bin/R CMD build --keep-empty-dirs --no-resave-data sechm StartedAt: 2025-02-04 07:59:51 -0500 (Tue, 04 Feb 2025) EndedAt: 2025-02-04 08:01:16 -0500 (Tue, 04 Feb 2025) EllapsedTime: 85.2 seconds RetCode: 0 Status: OK PackageFile: sechm_1.14.0.tar.gz PackageFileSize: 1.051 MiB