Package: sechm Version: 1.14.0 Command: rm -rf sechm.buildbin-libdir && mkdir sechm.buildbin-libdir && /Users/biocbuild/BBS/utils/build-universal.sh sechm_1.14.0.tar.gz /Library/Frameworks/R.framework/Resources/bin/R sechm.buildbin-libdir StartedAt: 2025-01-29 16:34:02 -0500 (Wed, 29 Jan 2025) EndedAt: 2025-01-29 16:34:33 -0500 (Wed, 29 Jan 2025) EllapsedTime: 30.9 seconds RetCode: 0 Status: OK PackageFile: sechm_1.14.0.tgz PackageFileSize: 1.123 MiB