Package: seahtrue Version: 1.0.0 Command: F:\biocbuild\bbs-3.20-bioc\R\bin\R.exe CMD check --no-multiarch --install=check:seahtrue.install-out.txt --library=F:\biocbuild\bbs-3.20-bioc\R\library --no-vignettes --timings seahtrue_1.0.0.tar.gz StartedAt: 2025-01-28 05:50:14 -0500 (Tue, 28 Jan 2025) EndedAt: 2025-01-28 05:57:02 -0500 (Tue, 28 Jan 2025) EllapsedTime: 407.8 seconds RetCode: 0 Status: OK CheckDir: seahtrue.Rcheck Warnings: 0