Package: seahtrue Version: 1.0.0 Command: rm -rf seahtrue.buildbin-libdir && mkdir seahtrue.buildbin-libdir && F:\biocbuild\bbs-3.20-bioc\R\bin\R.exe CMD INSTALL --build --library=seahtrue.buildbin-libdir seahtrue_1.0.0.tar.gz StartedAt: 2025-04-01 09:11:45 -0400 (Tue, 01 Apr 2025) EndedAt: 2025-04-01 09:12:04 -0400 (Tue, 01 Apr 2025) EllapsedTime: 19.1 seconds RetCode: 0 Status: OK PackageFile: seahtrue_1.0.0.zip PackageFileSize: 3.392 MiB