Package: seahtrue Version: 1.0.0 Command: /Library/Frameworks/R.framework/Resources/bin/R CMD INSTALL seahtrue StartedAt: 2025-03-31 15:40:17 -0400 (Mon, 31 Mar 2025) EndedAt: 2025-03-31 15:40:40 -0400 (Mon, 31 Mar 2025) EllapsedTime: 23.4 seconds RetCode: 0 Status: OK