Package: seahtrue Version: 1.0.0 Command: /Library/Frameworks/R.framework/Resources/bin/R CMD check --install=check:seahtrue.install-out.txt --library=/Library/Frameworks/R.framework/Resources/library --no-vignettes --timings seahtrue_1.0.0.tar.gz StartedAt: 2025-04-01 08:59:17 -0400 (Tue, 01 Apr 2025) EndedAt: 2025-04-01 09:11:26 -0400 (Tue, 01 Apr 2025) EllapsedTime: 728.9 seconds RetCode: 0 Status: OK CheckDir: seahtrue.Rcheck Warnings: 0