Package: seahtrue Version: 1.0.0 Command: /Library/Frameworks/R.framework/Resources/bin/R CMD build --keep-empty-dirs --no-resave-data seahtrue StartedAt: 2025-03-31 21:56:28 -0400 (Mon, 31 Mar 2025) EndedAt: 2025-03-31 22:04:32 -0400 (Mon, 31 Mar 2025) EllapsedTime: 483.7 seconds RetCode: 0 Status: OK PackageFile: seahtrue_1.0.0.tar.gz PackageFileSize: 3.32 MiB