Package: seahtrue Version: 1.0.0 Command: rm -rf seahtrue.buildbin-libdir && mkdir seahtrue.buildbin-libdir && /Users/biocbuild/BBS/utils/build-universal.sh seahtrue_1.0.0.tar.gz /Library/Frameworks/R.framework/Resources/bin/R seahtrue.buildbin-libdir StartedAt: 2025-04-01 12:44:36 -0400 (Tue, 01 Apr 2025) EndedAt: 2025-04-01 12:44:55 -0400 (Tue, 01 Apr 2025) EllapsedTime: 18.6 seconds RetCode: 0 Status: OK PackageFile: seahtrue_1.0.0.tgz PackageFileSize: 3.39 MiB