Package: seahtrue Version: 1.0.0 Command: /Library/Frameworks/R.framework/Resources/bin/R CMD build --keep-empty-dirs --no-resave-data seahtrue StartedAt: 2025-04-01 07:32:37 -0400 (Tue, 01 Apr 2025) EndedAt: 2025-04-01 07:36:21 -0400 (Tue, 01 Apr 2025) EllapsedTime: 224.0 seconds RetCode: 0 Status: OK PackageFile: seahtrue_1.0.0.tar.gz PackageFileSize: 3.32 MiB