Package: seahtrue Version: 1.0.0 Command: rm -rf seahtrue.buildbin-libdir && mkdir seahtrue.buildbin-libdir && /Users/biocbuild/BBS/utils/build-universal.sh seahtrue_1.0.0.tar.gz /Library/Frameworks/R.framework/Resources/bin/R seahtrue.buildbin-libdir StartedAt: 2025-01-29 16:33:52 -0500 (Wed, 29 Jan 2025) EndedAt: 2025-01-29 16:34:02 -0500 (Wed, 29 Jan 2025) EllapsedTime: 10.0 seconds RetCode: 0 Status: OK PackageFile: seahtrue_1.0.0.tgz PackageFileSize: 3.39 MiB