Package: scviR Version: 1.6.0 Command: /home/biocbuild/R/R/bin/R CMD INSTALL scviR StartedAt: 2025-02-03 21:16:33 -0000 (Mon, 03 Feb 2025) EndedAt: 2025-02-03 21:17:13 -0000 (Mon, 03 Feb 2025) EllapsedTime: 40.1 seconds RetCode: 0 Status: OK