Package: scuttle Version: 1.16.0 Command: /home/biocbuild/R/R/bin/R CMD build --keep-empty-dirs --no-resave-data scuttle StartedAt: 2025-02-04 02:52:25 -0000 (Tue, 04 Feb 2025) EndedAt: 2025-02-04 02:56:48 -0000 (Tue, 04 Feb 2025) EllapsedTime: 262.4 seconds RetCode: 0 Status: OK PackageFile: scuttle_1.16.0.tar.gz PackageFileSize: 1.172 MiB