Package: scuttle Version: 1.16.0 Command: chmod a+r scuttle -R && F:\biocbuild\bbs-3.20-bioc\R\bin\R.exe CMD build --keep-empty-dirs --no-resave-data scuttle StartedAt: 2025-01-30 21:47:00 -0500 (Thu, 30 Jan 2025) EndedAt: 2025-01-30 21:50:55 -0500 (Thu, 30 Jan 2025) EllapsedTime: 235.1 seconds RetCode: 0 Status: OK PackageFile: scuttle_1.16.0.tar.gz PackageFileSize: 1007 KiB