Package: scuttle Version: 1.16.0 Command: /Library/Frameworks/R.framework/Resources/bin/R CMD INSTALL scuttle StartedAt: 2025-03-31 15:25:33 -0400 (Mon, 31 Mar 2025) EndedAt: 2025-03-31 15:27:48 -0400 (Mon, 31 Mar 2025) EllapsedTime: 135.1 seconds RetCode: 0 Status: OK