Package: scry Version: 1.18.0 Command: /home/biocbuild/bbs-3.20-bioc/R/bin/R CMD check --install=check:scry.install-out.txt --library=/home/biocbuild/bbs-3.20-bioc/R/site-library --timings scry_1.18.0.tar.gz StartedAt: 2024-11-20 09:26:00 -0500 (Wed, 20 Nov 2024) EndedAt: 2024-11-20 09:32:00 -0500 (Wed, 20 Nov 2024) EllapsedTime: 360.4 seconds RetCode: 0 Status: OK CheckDir: scry.Rcheck Warnings: 0