Package: scry Version: 1.18.0 Command: /home/biocbuild/R/R/bin/R CMD INSTALL scry StartedAt: 2025-01-30 20:59:51 -0000 (Thu, 30 Jan 2025) EndedAt: 2025-01-30 21:00:20 -0000 (Thu, 30 Jan 2025) EllapsedTime: 28.6 seconds RetCode: 0 Status: OK