Package: scry Version: 1.18.0 Command: /home/biocbuild/R/R/bin/R CMD build --keep-empty-dirs --no-resave-data scry StartedAt: 2025-01-31 02:35:42 -0000 (Fri, 31 Jan 2025) EndedAt: 2025-01-31 02:39:50 -0000 (Fri, 31 Jan 2025) EllapsedTime: 248.2 seconds RetCode: 0 Status: OK PackageFile: scry_1.18.0.tar.gz PackageFileSize: 4.427 MiB