Package: scry Version: 1.18.0 Command: rm -rf scry.buildbin-libdir && mkdir scry.buildbin-libdir && /Users/biocbuild/BBS/utils/build-universal.sh scry_1.18.0.tar.gz /Library/Frameworks/R.framework/Resources/bin/R scry.buildbin-libdir StartedAt: 2024-12-10 13:19:32 -0500 (Tue, 10 Dec 2024) EndedAt: 2024-12-10 13:20:47 -0500 (Tue, 10 Dec 2024) EllapsedTime: 74.8 seconds RetCode: 0 Status: OK PackageFile: scry_1.18.0.tgz PackageFileSize: 4.548 MiB