Package: scry Version: 1.18.0 Command: /home/biocbuild/R/R/bin/R CMD build --keep-empty-dirs --no-resave-data scry StartedAt: 2024-11-20 03:49:50 -0000 (Wed, 20 Nov 2024) EndedAt: 2024-11-20 03:55:59 -0000 (Wed, 20 Nov 2024) EllapsedTime: 368.5 seconds RetCode: 0 Status: OK PackageFile: scry_1.18.0.tar.gz PackageFileSize: 4.427 MiB