Package: scry Version: 1.18.0 Command: /Library/Frameworks/R.framework/Resources/bin/R CMD build --keep-empty-dirs --no-resave-data scry StartedAt: 2025-02-04 07:54:03 -0500 (Tue, 04 Feb 2025) EndedAt: 2025-02-04 07:59:03 -0500 (Tue, 04 Feb 2025) EllapsedTime: 300.4 seconds RetCode: 0 Status: OK PackageFile: scry_1.18.0.tar.gz PackageFileSize: 4.522 MiB