Package: scry Version: 1.18.0 Command: rm -rf scry.buildbin-libdir && mkdir scry.buildbin-libdir && /Users/biocbuild/BBS/utils/build-universal.sh scry_1.18.0.tar.gz /Library/Frameworks/R.framework/Resources/bin/R scry.buildbin-libdir StartedAt: 2025-02-05 17:45:02 -0500 (Wed, 05 Feb 2025) EndedAt: 2025-02-05 17:45:32 -0500 (Wed, 05 Feb 2025) EllapsedTime: 30.1 seconds RetCode: 0 Status: OK PackageFile: scry_1.18.0.tgz PackageFileSize: 4.548 MiB