Package: scruff Version: 1.24.0 Command: /Library/Frameworks/R.framework/Resources/bin/R CMD INSTALL scruff StartedAt: 2025-02-03 16:09:41 -0500 (Mon, 03 Feb 2025) EndedAt: 2025-02-03 16:11:41 -0500 (Mon, 03 Feb 2025) EllapsedTime: 120.0 seconds RetCode: 0 Status: OK