Package: screenCounter Version: 1.6.0 Command: /home/biocbuild/R/R/bin/R CMD INSTALL screenCounter StartedAt: 2025-01-27 21:18:33 -0000 (Mon, 27 Jan 2025) EndedAt: 2025-01-27 21:20:37 -0000 (Mon, 27 Jan 2025) EllapsedTime: 123.3 seconds RetCode: 0 Status: OK