Package: screenCounter Version: 1.6.0 Command: F:\biocbuild\bbs-3.20-bioc\R\bin\R.exe CMD INSTALL screenCounter StartedAt: 2025-03-31 15:53:04 -0400 (Mon, 31 Mar 2025) EndedAt: 2025-03-31 15:55:07 -0400 (Mon, 31 Mar 2025) EllapsedTime: 123.6 seconds RetCode: 0 Status: OK