Package: screenCounter Version: 1.6.0 Command: rm -rf screenCounter.buildbin-libdir && mkdir screenCounter.buildbin-libdir && F:\biocbuild\bbs-3.20-bioc\R\bin\R.exe CMD INSTALL --build --library=screenCounter.buildbin-libdir screenCounter_1.6.0.tar.gz StartedAt: 2025-04-01 09:11:10 -0400 (Tue, 01 Apr 2025) EndedAt: 2025-04-01 09:15:21 -0400 (Tue, 01 Apr 2025) EllapsedTime: 250.4 seconds RetCode: 0 Status: OK PackageFile: screenCounter_1.6.0.zip PackageFileSize: 865.9 KiB