Package: screenCounter Version: 1.6.0 Command: /Library/Frameworks/R.framework/Resources/bin/R CMD INSTALL screenCounter StartedAt: 2025-01-27 15:33:15 -0500 (Mon, 27 Jan 2025) EndedAt: 2025-01-27 15:36:02 -0500 (Mon, 27 Jan 2025) EllapsedTime: 166.6 seconds RetCode: 0 Status: OK